BEGIN:VCALENDAR
VERSION:2.0
PRODID:-//Louisville Employee Benefits Council - ECPv6.15.20//NONSGML v1.0//EN
CALSCALE:GREGORIAN
METHOD:PUBLISH
X-ORIGINAL-URL:https://www.lebcouncil.org
X-WR-CALDESC:Events for Louisville Employee Benefits Council
REFRESH-INTERVAL;VALUE=DURATION:PT1H
X-Robots-Tag:noindex
X-PUBLISHED-TTL:PT1H
BEGIN:VTIMEZONE
TZID:America/Kentucky/Louisville
BEGIN:DAYLIGHT
TZOFFSETFROM:-0500
TZOFFSETTO:-0400
TZNAME:EDT
DTSTART:20240310T070000
END:DAYLIGHT
BEGIN:STANDARD
TZOFFSETFROM:-0400
TZOFFSETTO:-0500
TZNAME:EST
DTSTART:20241103T060000
END:STANDARD
BEGIN:DAYLIGHT
TZOFFSETFROM:-0500
TZOFFSETTO:-0400
TZNAME:EDT
DTSTART:20250309T070000
END:DAYLIGHT
BEGIN:STANDARD
TZOFFSETFROM:-0400
TZOFFSETTO:-0500
TZNAME:EST
DTSTART:20251102T060000
END:STANDARD
BEGIN:DAYLIGHT
TZOFFSETFROM:-0500
TZOFFSETTO:-0400
TZNAME:EDT
DTSTART:20260308T070000
END:DAYLIGHT
BEGIN:STANDARD
TZOFFSETFROM:-0400
TZOFFSETTO:-0500
TZNAME:EST
DTSTART:20261101T060000
END:STANDARD
END:VTIMEZONE
BEGIN:VEVENT
DTSTART;TZID=America/Kentucky/Louisville:20250916T113000
DTEND;TZID=America/Kentucky/Louisville:20250916T131500
DTSTAMP:20260420T092805
CREATED:20250902T192346Z
LAST-MODIFIED:20250902T192346Z
UID:5387-1758022200-1758028500@www.lebcouncil.org
SUMMARY:LEBC September 2025 - Monthly Meeting
DESCRIPTION:Tuesday\, September 16th\n\n\nRiver House Restaurant\n3015 River Rd\, Louisville\, KY 40207\n11:30am to 1:15pm\nRSVP HERE\n*Note headcount is due to restaurant in advance of meeting. RSVP by Thursday\, September 11th \nSECURE 2.0: Implementation Issues\nCory Aldrich – Senior Account Manager\, USI Consulting Group\nRegistration begins at 11:30am to allow time for networking and socializing\nSpeaker presentations begin between 12:00pm – 12:15pm\nMeetings normally conclude between 1:00pm – 1:15pm\nGuests are welcome and encouraged to attend at a cost of $40. Please add your guest on the RSVP form. \nIn the event of a cancellation\, you may contact Tammy Mahoney: tammy.mahoney@usi.com \n\n\n\n\n Add to calendar
URL:https://www.lebcouncil.org/event/lebc-september-2025-monthly-meeting/
CATEGORIES:Monthly Luncheon
END:VEVENT
END:VCALENDAR