BEGIN:VCALENDAR
VERSION:2.0
PRODID:-//Louisville Employee Benefits Council - ECPv6.15.20//NONSGML v1.0//EN
CALSCALE:GREGORIAN
METHOD:PUBLISH
X-WR-CALNAME:Louisville Employee Benefits Council
X-ORIGINAL-URL:https://www.lebcouncil.org
X-WR-CALDESC:Events for Louisville Employee Benefits Council
REFRESH-INTERVAL;VALUE=DURATION:PT1H
X-Robots-Tag:noindex
X-PUBLISHED-TTL:PT1H
BEGIN:VTIMEZONE
TZID:UTC
BEGIN:STANDARD
TZOFFSETFROM:+0000
TZOFFSETTO:+0000
TZNAME:UTC
DTSTART:20140101T000000
END:STANDARD
END:VTIMEZONE
BEGIN:VTIMEZONE
TZID:America/Kentucky/Louisville
BEGIN:DAYLIGHT
TZOFFSETFROM:-0500
TZOFFSETTO:-0400
TZNAME:EDT
DTSTART:20140309T070000
END:DAYLIGHT
BEGIN:STANDARD
TZOFFSETFROM:-0400
TZOFFSETTO:-0500
TZNAME:EST
DTSTART:20141102T060000
END:STANDARD
BEGIN:DAYLIGHT
TZOFFSETFROM:-0500
TZOFFSETTO:-0400
TZNAME:EDT
DTSTART:20150308T070000
END:DAYLIGHT
BEGIN:STANDARD
TZOFFSETFROM:-0400
TZOFFSETTO:-0500
TZNAME:EST
DTSTART:20151101T060000
END:STANDARD
BEGIN:DAYLIGHT
TZOFFSETFROM:-0500
TZOFFSETTO:-0400
TZNAME:EDT
DTSTART:20160313T070000
END:DAYLIGHT
BEGIN:STANDARD
TZOFFSETFROM:-0400
TZOFFSETTO:-0500
TZNAME:EST
DTSTART:20161106T060000
END:STANDARD
END:VTIMEZONE
BEGIN:VEVENT
DTSTART;TZID=UTC:20151124T120000
DTEND;TZID=UTC:20151124T130000
DTSTAMP:20260425T065049
CREATED:20151029T162950Z
LAST-MODIFIED:20160423T162828Z
UID:371-1448366400-1448370000@www.lebcouncil.org
SUMMARY:November 2015 SubCouncil Luncheon
DESCRIPTION:“QDIA: Custom vs. Off-the-Shelf” \nPresented by: \nProCourse Fiduciary Advisors\, LLC \nDeana J Harmon\, CIMA\, AIF\nChief Investment Officer\, Principal\nDeana J Harmon Bio \nKristin V Dunlevy\, QPFC\, AIF\nRetirement Plan Advisor\nKristin V Dunlevy Bio
URL:https://www.lebcouncil.org/event/november-2015-subcouncil-luncheon/
LOCATION:Marriott Hotel Downtown\, 280 West Jefferson Street\, Louisville\, KY\, 40202\, United States
END:VEVENT
BEGIN:VEVENT
DTSTART;TZID=UTC:20151110T113000
DTEND;TZID=UTC:20151110T130000
DTSTAMP:20260425T065049
CREATED:20151029T160503Z
LAST-MODIFIED:20160423T162547Z
UID:368-1447155000-1447160400@www.lebcouncil.org
SUMMARY:November 2015 LEBC Monthly Luncheon
DESCRIPTION:“PBGC Update: Issues for Practitioners” \nIn this presentation\, attendees will hear some timely issues such as: \n\nChanges to Reportable Event Rules\n4062(e) Reporting\nEarly Warning Program\nPremium\n\nPresented by: \nHarold J Ashner\nKeightley & Ashner LLP\nWashington\, D.C \n \nHarold J. Ashner is a partner in the law firm of Keightley & Ashner LLP. He served as Assistant General Counsel for Legislation and Regulations at the Pension Benefit Guaranty Corporation\, where he drafted or supervised virtually all regulations and policies issued by the PBGC from 1988 until he left to form Keightley & Ashner LLP in early 2005. These regulations…read more \n  \nThe meeting room for the event at Marriott Downtown will be the Filly-Thoroughbred Room. Please click the image below to familiarize yourself with the location \n \nEvent Menu \n \nHarvest Salad – Mesculin Greens\, Candied Walnuts\, Blue Chees\, Apples\, and Dried Cranberries\, served with a Maple Cider Vinaigrette \nRosemary Lemon Roasted Chicken\nWhipped Potatoes\nHaricot Verts\nRoasted Garlic Pan Gravy \nTiramisu – Marsala\, Mascarpone Mousse with Espresso Dipped Lady Fingers \nIced Tea\, Freshly Brewed Coffee and Decaffeinated Coffee\, Taylors of Harrogate Traditional and Herbal Teas
URL:https://www.lebcouncil.org/event/november-2015-lebc-monthly-luncheon/
LOCATION:Marriott Hotel Downtown\, 280 West Jefferson Street\, Louisville\, KY\, 40202\, United States
END:VEVENT
BEGIN:VEVENT
DTSTART;TZID=UTC:20151027T120000
DTEND;TZID=UTC:20151027T130000
DTSTAMP:20260425T065049
CREATED:20150930T035456Z
LAST-MODIFIED:20160423T162457Z
UID:285-1445947200-1445950800@www.lebcouncil.org
SUMMARY:October 2015 Sub Council Luncheon
DESCRIPTION:“Wellness Programs” \nPresented by: \nJeff Ellison\, Chief Operating Officer\nHeuser Health \nJeff’s Bio
URL:https://www.lebcouncil.org/event/october-2015-sub-council-luncheon/
LOCATION:Marriott Hotel Downtown\, 280 West Jefferson Street\, Louisville\, KY\, 40202\, United States
CATEGORIES:Sub Council Luncheon
END:VEVENT
BEGIN:VEVENT
DTSTART;TZID=UTC:20151013T113000
DTEND;TZID=UTC:20151013T130000
DTSTAMP:20260425T065049
CREATED:20150909T213714Z
LAST-MODIFIED:20160423T162308Z
UID:229-1444735800-1444741200@www.lebcouncil.org
SUMMARY:October 2015 LEBC Monthly Luncheon
DESCRIPTION:“Investigation of Employee Benefit Plans” \nPresented by:\nSherry Brackney\, CEBS\nSenior Benefit Administrator\nEmployee Benefit Security Administration\, EBSA \nSherry Brackney – Bio \nWe will be in the Filly-Thoroughbred room located on the 2nd floor. To familiarize yourself with the location\, please click the image below. \n \n  \n  \n\nMenu for the event: \nKentucky Luncheon Buffet \nBibb Lettuce\, Carrots\, Blue Cheese & Cherry Tomatoes\nwith Blue Cheese Dressing \nWatermelon\, Cucumber & Mint Salad\nwith Lemon Vinaigrette \nWarm Corn Bread with Honey Butter \nBurgoo with Crispy Potato Skins \nHot Browns with Buttermilk Biscuits\, Tomato\, Turkey\, Bacon\, and Mornay Sauce\nBourbon Braised Brisket with Mopping Sauce \nMaple Whipped Sweet Potatoes\nSmothered Green Beans served with Onions and Kentucky Pride Ham Hock \nBourbon Pecan Pie\nChocolate Peanut Butter Pie\nBanana Cream Pie \nIced Tea\, Freshly Brewed Coffee and Decaffeinated Coffee\,\nTaylor of Harrogate Traditional and Herbal Teas \n  \n  \n  \n  \n 
URL:https://www.lebcouncil.org/event/october-2015-lebc-monthly-luncheon/
LOCATION:Marriott Hotel Downtown\, 280 West Jefferson Street\, Louisville\, KY\, 40202\, United States
CATEGORIES:Monthly Luncheon
END:VEVENT
BEGIN:VEVENT
DTSTART;TZID=UTC:20150922T120000
DTEND;TZID=UTC:20150922T130000
DTSTAMP:20260425T065049
CREATED:20150904T220554Z
LAST-MODIFIED:20160423T162027Z
UID:193-1442923200-1442926800@www.lebcouncil.org
SUMMARY:Sub Council Luncheon - Retirement Plans
DESCRIPTION:Philip J Gutwein\, II with Faegre Baker Daniels will be providing ESOP of interest \nBIO
URL:https://www.lebcouncil.org/event/sub-council-luncheon-retirement-plans/
LOCATION:Marriott Hotel Downtown\, 280 West Jefferson Street\, Louisville\, KY\, 40202\, United States
CATEGORIES:Sub Council Luncheon
END:VEVENT
BEGIN:VEVENT
DTSTART;TZID=UTC:20150908T113000
DTEND;TZID=UTC:20150908T130000
DTSTAMP:20260425T065049
CREATED:20150821T192211Z
LAST-MODIFIED:20160423T161911Z
UID:134-1441711800-1441717200@www.lebcouncil.org
SUMMARY:LEBC Monthly Luncheon
DESCRIPTION:Lyndsey Barnett\, Partner with Graydon Head will be presenting “The ACA’s Far Reaching Impact on Employment Practices” \nWe will be in the Rose Room on the Second Level\n \n  \nLUNCH Menu \nBibb Salad – Strawberries\, Mandarin Oranges\, and Toasted Almonds with Pomegranate Blueberry Vinaigrette \nChicken Piccata – with Whipped Potatoes\, Haricot Verts\, and Roasted Garlic Pan Gravy \nBananas Foster Cheesecake with Rum Caramel Drizzle
URL:https://www.lebcouncil.org/event/monthy-meeting-september-2015/
LOCATION:Marriott Hotel Downtown\, 280 West Jefferson Street\, Louisville\, KY\, 40202\, United States
CATEGORIES:Monthly Luncheon
END:VEVENT
BEGIN:VEVENT
DTSTART;TZID=America/Kentucky/Louisville:20150630T080000
DTEND;TZID=America/Kentucky/Louisville:20150630T170000
DTSTAMP:20260425T065049
CREATED:20150819T211759Z
LAST-MODIFIED:20150819T213216Z
UID:122-1435651200-1435683600@www.lebcouncil.org
SUMMARY:June Sub-Council Meeting
DESCRIPTION:Retirement Plans Subcouncil – \nCheck computerized signs for meeting room location. \nParking vouchers are available at meetings for individuals parking in the Marriott garage.\n \n\n\nValet parking will not be reimbursed.
URL:https://www.lebcouncil.org/event/june-sub-council-meeting/
LOCATION:Marriott Hotel Downtown\, 280 West Jefferson Street\, Louisville\, KY\, 40202\, United States
END:VEVENT
END:VCALENDAR