BEGIN:VCALENDAR
VERSION:2.0
PRODID:-//Louisville Employee Benefits Council - ECPv6.15.20//NONSGML v1.0//EN
CALSCALE:GREGORIAN
METHOD:PUBLISH
X-WR-CALNAME:Louisville Employee Benefits Council
X-ORIGINAL-URL:https://www.lebcouncil.org
X-WR-CALDESC:Events for Louisville Employee Benefits Council
REFRESH-INTERVAL;VALUE=DURATION:PT1H
X-Robots-Tag:noindex
X-PUBLISHED-TTL:PT1H
BEGIN:VTIMEZONE
TZID:America/Kentucky/Louisville
BEGIN:DAYLIGHT
TZOFFSETFROM:-0500
TZOFFSETTO:-0400
TZNAME:EDT
DTSTART:20250309T070000
END:DAYLIGHT
BEGIN:STANDARD
TZOFFSETFROM:-0400
TZOFFSETTO:-0500
TZNAME:EST
DTSTART:20251102T060000
END:STANDARD
BEGIN:DAYLIGHT
TZOFFSETFROM:-0500
TZOFFSETTO:-0400
TZNAME:EDT
DTSTART:20260308T070000
END:DAYLIGHT
BEGIN:STANDARD
TZOFFSETFROM:-0400
TZOFFSETTO:-0500
TZNAME:EST
DTSTART:20261101T060000
END:STANDARD
BEGIN:DAYLIGHT
TZOFFSETFROM:-0500
TZOFFSETTO:-0400
TZNAME:EDT
DTSTART:20270314T070000
END:DAYLIGHT
BEGIN:STANDARD
TZOFFSETFROM:-0400
TZOFFSETTO:-0500
TZNAME:EST
DTSTART:20271107T060000
END:STANDARD
END:VTIMEZONE
BEGIN:VEVENT
DTSTART;TZID=America/Kentucky/Louisville:20260120T113000
DTEND;TZID=America/Kentucky/Louisville:20260120T131500
DTSTAMP:20260419T112512
CREATED:20260109T144138Z
LAST-MODIFIED:20260109T144138Z
UID:5516-1768908600-1768914900@www.lebcouncil.org
SUMMARY:LEBC January 2026 - Monthly Meeting
DESCRIPTION:Tuesday\, January 20th\n\n\nRiver House Restaurant\n3015 River Rd\, Louisville\, KY 40207\n11:30am to 1:15pm\nRSVP HERE\n*Note headcount is due to restaurant in advance of meeting. RSVP by Thursday\, January 15th \nThe More Things Change\, the More They Change: ERISA in the Post-Election World\nAndrew L. Oringer – Partner and General Counsel\, The Wagner Law Group\nAndrew heads the New York office of the Wagner Law Group and serves as its General Counsel. His expertise extends to a broad array of issues relating to ERISA and executive compensation. He advises clients regarding their pension and welfare plans and arrangements\, benefits-related tax matters and fiduciary issues arising in connection with the investment of plan assets\, and has extensive experience with executive compensation representing employers as well as individual executives. Andrew’s advice to clients encompasses all aspects of corporate transactions and initial public offerings in which benefits and compensation issues play a central part. He regularly counsels financial institutions and plan fiduciaries regarding investments\, and has been instrumental in designing intricate investment structures to address complex ERISA issues. As General Counsel\, Andrew addresses a variety of ethical issues impacting an ever-growing law firm. \nNationally known for his experience with ERISA and matters relating to executive compensation\, Andrew is a frequent speaker and writer on a wide variety of topics. He has been quoted in numerous publications\, including The Wall Street Journal\, The New York Times\, The Financial Times\, Crain’s Pensions & Investments\, Newsday\, USA Today\, The Chicago Sun Times and Law360. He has authored\, co-authored or contributed to numerous bar comment letters and reports to regulators\, and has testified at the request of Congress and before the Department of Labor. \nAndrew is co-chair emeritus of the Employee Benefits and Executive Compensation Committee of the American Bar Association’s Business Section\, Emerging Issues Coordinator of the Employee Benefits Committee of the ABA’s Section of Taxation\, former co-chair of the Employee Benefits Committee of the Tax Section of the New York State Bar Association\, chair emeritus of the NYSBA’s Committee on Attorney Professionalism and a member of the NYSBA’s Committee on Professional Ethics. \nRegistration begins at 11:30am to allow time for networking and socializing\nSpeaker presentations begin between 12:00pm – 12:15pm\nMeetings normally conclude between 1:00pm – 1:15pm\nGuests are welcome and encouraged to attend at a cost of $40.  Please add your guest on the RSVP form. \nIn the event of a cancellation\, you may contact Tammy Mahoney: tammy.mahoney@usi.com
URL:https://www.lebcouncil.org/event/lebc-january-2026-monthly-meeting/
CATEGORIES:Monthly Luncheon
END:VEVENT
END:VCALENDAR